Package: methimpute Version: 1.30.0 Command: /home/biocbuild/bbs-3.21-bioc/R/bin/R CMD check --install=check:methimpute.install-out.txt --library=/home/biocbuild/bbs-3.21-bioc/R/site-library --timings methimpute_1.30.0.tar.gz StartedAt: 2025-09-29 00:55:10 -0400 (Mon, 29 Sep 2025) EndedAt: 2025-09-29 00:58:57 -0400 (Mon, 29 Sep 2025) EllapsedTime: 227.2 seconds RetCode: 0 Status: WARNINGS CheckDir: methimpute.Rcheck Warnings: 1