Package: methimpute Version: 1.30.0 Command: /home/biocbuild/R/R/bin/R CMD INSTALL methimpute StartedAt: 2025-10-13 20:27:54 -0000 (Mon, 13 Oct 2025) EndedAt: 2025-10-13 20:29:00 -0000 (Mon, 13 Oct 2025) EllapsedTime: 66.0 seconds RetCode: 0 Status: OK