Package: methimpute Version: 1.30.0 Command: /Library/Frameworks/R.framework/Resources/bin/R CMD check --install=check:methimpute.install-out.txt --library=/Library/Frameworks/R.framework/Resources/library --no-vignettes --timings methimpute_1.30.0.tar.gz StartedAt: 2025-04-21 20:13:42 -0400 (Mon, 21 Apr 2025) EndedAt: 2025-04-21 20:14:39 -0400 (Mon, 21 Apr 2025) EllapsedTime: 56.6 seconds RetCode: 0 Status: WARNINGS CheckDir: methimpute.Rcheck Warnings: 1