Package: methimpute Version: 1.30.0 Command: /Library/Frameworks/R.framework/Resources/bin/R CMD INSTALL methimpute StartedAt: 2025-10-13 16:01:32 -0400 (Mon, 13 Oct 2025) EndedAt: 2025-10-13 16:02:13 -0400 (Mon, 13 Oct 2025) EllapsedTime: 40.8 seconds RetCode: 0 Status: OK