Package: metaseqR2 Version: 1.20.0 Command: E:\biocbuild\bbs-3.21-bioc\R\bin\R.exe CMD check --no-multiarch --install=check:metaseqR2.install-out.txt --library=E:\biocbuild\bbs-3.21-bioc\R\library --no-vignettes --timings metaseqR2_1.20.0.tar.gz StartedAt: 2025-08-15 03:56:29 -0400 (Fri, 15 Aug 2025) EndedAt: 2025-08-15 04:06:50 -0400 (Fri, 15 Aug 2025) EllapsedTime: 620.6 seconds RetCode: 0 Status: OK CheckDir: metaseqR2.Rcheck Warnings: 0