Package: metaseqR2 Version: 1.20.0 Command: chmod a+r metaseqR2 -R && E:\biocbuild\bbs-3.21-bioc\R\bin\R.exe CMD build --keep-empty-dirs --no-resave-data metaseqR2 StartedAt: 2025-08-14 20:17:23 -0400 (Thu, 14 Aug 2025) EndedAt: 2025-08-14 20:26:20 -0400 (Thu, 14 Aug 2025) EllapsedTime: 537.1 seconds RetCode: 0 Status: OK PackageFile: metaseqR2_1.20.0.tar.gz PackageFileSize: 2.68 MiB