Package: metaseqR2 Version: 1.20.0 Command: /home/biocbuild/bbs-3.21-bioc/R/bin/R CMD INSTALL metaseqR2 StartedAt: 2025-10-15 15:51:02 -0400 (Wed, 15 Oct 2025) EndedAt: 2025-10-15 15:52:15 -0400 (Wed, 15 Oct 2025) EllapsedTime: 73.0 seconds RetCode: 0 Status: OK