Package: metaseqR2 Version: 1.20.0 Command: /home/biocbuild/bbs-3.21-bioc/R/bin/R CMD check --install=check:metaseqR2.install-out.txt --library=/home/biocbuild/bbs-3.21-bioc/R/site-library --timings metaseqR2_1.20.0.tar.gz StartedAt: 2025-10-16 00:51:08 -0400 (Thu, 16 Oct 2025) EndedAt: 2025-10-16 01:07:23 -0400 (Thu, 16 Oct 2025) EllapsedTime: 975.2 seconds RetCode: 0 Status: OK CheckDir: metaseqR2.Rcheck Warnings: 0