Package: metaseqR2 Version: 1.20.0 Command: /home/biocbuild/bbs-3.21-bioc/R/bin/R CMD build --keep-empty-dirs --no-resave-data metaseqR2 StartedAt: 2025-10-15 18:24:45 -0400 (Wed, 15 Oct 2025) EndedAt: 2025-10-15 18:31:21 -0400 (Wed, 15 Oct 2025) EllapsedTime: 395.3 seconds RetCode: 0 Status: OK PackageFile: metaseqR2_1.20.0.tar.gz PackageFileSize: 2.681 MiB