Package: metaseqR2 Version: 1.20.0 Command: /Library/Frameworks/R.framework/Resources/bin/R CMD build --keep-empty-dirs --no-resave-data metaseqR2 StartedAt: 2025-04-21 17:24:39 -0400 (Mon, 21 Apr 2025) EndedAt: 2025-04-21 17:32:32 -0400 (Mon, 21 Apr 2025) EllapsedTime: 472.9 seconds RetCode: 0 Status: OK PackageFile: metaseqR2_1.20.0.tar.gz PackageFileSize: 2.68 MiB