Package: metaseqR2 Version: 1.20.0 Command: /Library/Frameworks/R.framework/Resources/bin/R CMD INSTALL metaseqR2 StartedAt: 2025-04-21 15:27:07 -0400 (Mon, 21 Apr 2025) EndedAt: 2025-04-21 15:27:37 -0400 (Mon, 21 Apr 2025) EllapsedTime: 30.3 seconds RetCode: 0 Status: OK