Package: metaseqR2 Version: 1.20.0 Command: /Library/Frameworks/R.framework/Resources/bin/R CMD build --keep-empty-dirs --no-resave-data metaseqR2 StartedAt: 2025-10-14 03:50:20 -0400 (Tue, 14 Oct 2025) EndedAt: 2025-10-14 03:58:14 -0400 (Tue, 14 Oct 2025) EllapsedTime: 474.1 seconds RetCode: 0 Status: OK PackageFile: metaseqR2_1.20.0.tar.gz PackageFileSize: 2.68 MiB