Package: metapone Version: 1.14.0 Command: /Library/Frameworks/R.framework/Resources/bin/R CMD INSTALL metapone StartedAt: 2025-10-13 15:17:11 -0400 (Mon, 13 Oct 2025) EndedAt: 2025-10-13 15:17:44 -0400 (Mon, 13 Oct 2025) EllapsedTime: 33.2 seconds RetCode: 0 Status: OK