Package: metapone Version: 1.14.0 Command: /Library/Frameworks/R.framework/Resources/bin/R CMD build --keep-empty-dirs --no-resave-data metapone StartedAt: 2025-10-13 20:23:09 -0400 (Mon, 13 Oct 2025) EndedAt: 2025-10-13 20:48:34 -0400 (Mon, 13 Oct 2025) EllapsedTime: 1525.7 seconds RetCode: 0 Status: OK PackageFile: metapone_1.14.0.tar.gz PackageFileSize: 3.745 MiB