Package: metapod Version: 1.16.0 Command: rm -rf metapod.buildbin-libdir && mkdir metapod.buildbin-libdir && E:\biocbuild\bbs-3.21-bioc\R\bin\R.exe CMD INSTALL --build --library=metapod.buildbin-libdir metapod_1.16.0.tar.gz StartedAt: 2025-08-15 09:40:06 -0400 (Fri, 15 Aug 2025) EndedAt: 2025-08-15 09:40:42 -0400 (Fri, 15 Aug 2025) EllapsedTime: 35.8 seconds RetCode: 0 Status: OK PackageFile: metapod_1.16.0.zip PackageFileSize: 848.9 KiB