Package: metabolomicsWorkbenchR Version: 1.18.0 Command: /home/biocbuild/R/R/bin/R CMD check --install=check:metabolomicsWorkbenchR.install-out.txt --library=/home/biocbuild/R/R/site-library --no-vignettes --timings metabolomicsWorkbenchR_1.18.0.tar.gz StartedAt: 2025-10-14 10:58:07 -0000 (Tue, 14 Oct 2025) EndedAt: 2025-10-14 11:02:01 -0000 (Tue, 14 Oct 2025) EllapsedTime: 233.1 seconds RetCode: 0 Status: OK CheckDir: metabolomicsWorkbenchR.Rcheck Warnings: 0