Package: metabolomicsWorkbenchR Version: 1.18.0 Command: /Library/Frameworks/R.framework/Resources/bin/R CMD INSTALL metabolomicsWorkbenchR StartedAt: 2025-10-13 16:53:02 -0400 (Mon, 13 Oct 2025) EndedAt: 2025-10-13 16:53:40 -0400 (Mon, 13 Oct 2025) EllapsedTime: 37.6 seconds RetCode: 0 Status: OK