Package: metabolomicsWorkbenchR Version: 1.18.0 Command: /Library/Frameworks/R.framework/Resources/bin/R CMD check --install=check:metabolomicsWorkbenchR.install-out.txt --library=/Library/Frameworks/R.framework/Resources/library --no-vignettes --timings metabolomicsWorkbenchR_1.18.0.tar.gz StartedAt: 2025-10-15 02:50:05 -0400 (Wed, 15 Oct 2025) EndedAt: 2025-10-15 02:53:31 -0400 (Wed, 15 Oct 2025) EllapsedTime: 205.8 seconds RetCode: 0 Status: OK CheckDir: metabolomicsWorkbenchR.Rcheck Warnings: 0