Package: metabinR Version: 1.10.0 Command: rm -rf metabinR.buildbin-libdir && mkdir metabinR.buildbin-libdir && /Users/biocbuild/BBS/utils/build-universal.sh metabinR_1.10.0.tar.gz /Library/Frameworks/R.framework/Resources/bin/R metabinR.buildbin-libdir StartedAt: 2025-04-22 00:53:44 -0400 (Tue, 22 Apr 2025) EndedAt: 2025-04-22 00:53:51 -0400 (Tue, 22 Apr 2025) EllapsedTime: 7.0 seconds RetCode: 0 Status: OK PackageFile: metabinR_1.10.0.tgz PackageFileSize: 4.368 MiB