Package: metaMS Version: 1.44.0 Command: /home/biocbuild/R/R/bin/R CMD INSTALL metaMS StartedAt: 2025-10-13 21:02:38 -0000 (Mon, 13 Oct 2025) EndedAt: 2025-10-13 21:03:48 -0000 (Mon, 13 Oct 2025) EllapsedTime: 70.0 seconds RetCode: 0 Status: OK