Package: messina Version: 1.44.0 Command: E:\biocbuild\bbs-3.21-bioc\R\bin\R.exe CMD check --no-multiarch --install=check:messina.install-out.txt --library=E:\biocbuild\bbs-3.21-bioc\R\library --no-vignettes --timings messina_1.44.0.tar.gz StartedAt: 2025-08-15 03:52:53 -0400 (Fri, 15 Aug 2025) EndedAt: 2025-08-15 03:56:28 -0400 (Fri, 15 Aug 2025) EllapsedTime: 214.9 seconds RetCode: 0 Status: WARNINGS CheckDir: messina.Rcheck Warnings: 1