Package: messina Version: 1.44.0 Command: chmod a+r messina -R && E:\biocbuild\bbs-3.21-bioc\R\bin\R.exe CMD build --keep-empty-dirs --no-resave-data messina StartedAt: 2025-08-14 20:14:56 -0400 (Thu, 14 Aug 2025) EndedAt: 2025-08-14 20:16:56 -0400 (Thu, 14 Aug 2025) EllapsedTime: 119.7 seconds RetCode: 0 Status: OK PackageFile: messina_1.44.0.tar.gz PackageFileSize: 298.4 KiB