Package: messina Version: 1.44.0 Command: rm -rf messina.buildbin-libdir && mkdir messina.buildbin-libdir && E:\biocbuild\bbs-3.21-bioc\R\bin\R.exe CMD INSTALL --build --library=messina.buildbin-libdir messina_1.44.0.tar.gz StartedAt: 2025-08-15 09:39:32 -0400 (Fri, 15 Aug 2025) EndedAt: 2025-08-15 09:40:12 -0400 (Fri, 15 Aug 2025) EllapsedTime: 39.8 seconds RetCode: 0 Status: OK PackageFile: messina_1.44.0.zip PackageFileSize: 857.6 KiB