Package: meshr Version: 2.14.0 Command: /home/biocbuild/bbs-3.21-bioc/R/bin/R CMD check --install=check:meshr.install-out.txt --library=/home/biocbuild/bbs-3.21-bioc/R/site-library --timings meshr_2.14.0.tar.gz StartedAt: 2025-10-16 00:48:05 -0400 (Thu, 16 Oct 2025) EndedAt: 2025-10-16 00:50:12 -0400 (Thu, 16 Oct 2025) EllapsedTime: 127.2 seconds RetCode: 0 Status: OK CheckDir: meshr.Rcheck Warnings: 0