Package: meshr Version: 2.14.0 Command: /home/biocbuild/bbs-3.21-bioc/R/bin/R CMD build --keep-empty-dirs --no-resave-data meshr StartedAt: 2025-10-15 18:22:37 -0400 (Wed, 15 Oct 2025) EndedAt: 2025-10-15 18:23:00 -0400 (Wed, 15 Oct 2025) EllapsedTime: 23.0 seconds RetCode: 0 Status: OK PackageFile: meshr_2.14.0.tar.gz PackageFileSize: 1002 KiB