Package: meshr Version: 2.14.0 Command: /home/biocbuild/R/R/bin/R CMD INSTALL meshr StartedAt: 2025-10-13 20:45:10 -0000 (Mon, 13 Oct 2025) EndedAt: 2025-10-13 20:45:40 -0000 (Mon, 13 Oct 2025) EllapsedTime: 30.2 seconds RetCode: 0 Status: OK