Package: meshr Version: 2.14.0 Command: /home/biocbuild/R/R/bin/R CMD build --keep-empty-dirs --no-resave-data meshr StartedAt: 2025-10-14 02:13:49 -0000 (Tue, 14 Oct 2025) EndedAt: 2025-10-14 02:14:22 -0000 (Tue, 14 Oct 2025) EllapsedTime: 33.0 seconds RetCode: 0 Status: OK PackageFile: meshr_2.14.0.tar.gz PackageFileSize: 1.002 MiB