Package: meshr Version: 2.14.0 Command: /Library/Frameworks/R.framework/Resources/bin/R CMD INSTALL meshr StartedAt: 2025-10-13 15:53:15 -0400 (Mon, 13 Oct 2025) EndedAt: 2025-10-13 15:53:39 -0400 (Mon, 13 Oct 2025) EllapsedTime: 24.1 seconds RetCode: 0 Status: OK