Package: meshr Version: 2.14.0 Command: /Library/Frameworks/R.framework/Resources/bin/R CMD check --install=check:meshr.install-out.txt --library=/Library/Frameworks/R.framework/Resources/library --no-vignettes --timings meshr_2.14.0.tar.gz StartedAt: 2025-10-15 02:45:30 -0400 (Wed, 15 Oct 2025) EndedAt: 2025-10-15 02:48:02 -0400 (Wed, 15 Oct 2025) EllapsedTime: 151.4 seconds RetCode: 0 Status: OK CheckDir: meshr.Rcheck Warnings: 0