Package: meshr Version: 2.14.0 Command: /Library/Frameworks/R.framework/Resources/bin/R CMD build --keep-empty-dirs --no-resave-data meshr StartedAt: 2025-10-14 03:41:39 -0400 (Tue, 14 Oct 2025) EndedAt: 2025-10-14 03:42:08 -0400 (Tue, 14 Oct 2025) EllapsedTime: 29.2 seconds RetCode: 0 Status: OK PackageFile: meshr_2.14.0.tar.gz PackageFileSize: 1002 KiB