Package: mdqc Version: 1.70.0 Command: rm -rf mdqc.buildbin-libdir && mkdir mdqc.buildbin-libdir && E:\biocbuild\bbs-3.21-bioc\R\bin\R.exe CMD INSTALL --build --library=mdqc.buildbin-libdir mdqc_1.70.0.tar.gz StartedAt: 2025-08-15 09:38:53 -0400 (Fri, 15 Aug 2025) EndedAt: 2025-08-15 09:38:58 -0400 (Fri, 15 Aug 2025) EllapsedTime: 5.4 seconds RetCode: 0 Status: OK PackageFile: mdqc_1.70.0.zip PackageFileSize: 183.6 KiB