Package: mdqc Version: 1.70.0 Command: /home/biocbuild/bbs-3.21-bioc/R/bin/R CMD INSTALL mdqc StartedAt: 2025-10-15 15:02:11 -0400 (Wed, 15 Oct 2025) EndedAt: 2025-10-15 15:02:26 -0400 (Wed, 15 Oct 2025) EllapsedTime: 15.0 seconds RetCode: 0 Status: OK