Package: mdqc Version: 1.70.0 Command: /home/biocbuild/bbs-3.21-bioc/R/bin/R CMD build --keep-empty-dirs --no-resave-data mdqc StartedAt: 2025-10-15 18:21:22 -0400 (Wed, 15 Oct 2025) EndedAt: 2025-10-15 18:21:29 -0400 (Wed, 15 Oct 2025) EllapsedTime: 7.0 seconds RetCode: 0 Status: OK PackageFile: mdqc_1.70.0.tar.gz PackageFileSize: 258.4 KiB