Package: mdqc Version: 1.70.0 Command: rm -rf mdqc.buildbin-libdir && mkdir mdqc.buildbin-libdir && /Users/biocbuild/BBS/utils/build-universal.sh mdqc_1.70.0.tar.gz /Library/Frameworks/R.framework/Resources/bin/R mdqc.buildbin-libdir StartedAt: 2025-10-14 13:56:27 -0400 (Tue, 14 Oct 2025) EndedAt: 2025-10-14 13:56:37 -0400 (Tue, 14 Oct 2025) EllapsedTime: 9.7 seconds RetCode: 0 Status: OK PackageFile: mdqc_1.70.0.tgz PackageFileSize: 296.7 KiB