Package: mdqc Version: 1.70.0 Command: /Library/Frameworks/R.framework/Resources/bin/R CMD INSTALL mdqc StartedAt: 2025-10-13 15:08:22 -0400 (Mon, 13 Oct 2025) EndedAt: 2025-10-13 15:08:25 -0400 (Mon, 13 Oct 2025) EllapsedTime: 2.8 seconds RetCode: 0 Status: OK