Package: mdqc Version: 1.70.0 Command: /Library/Frameworks/R.framework/Resources/bin/R CMD build --keep-empty-dirs --no-resave-data mdqc StartedAt: 2025-10-14 03:37:02 -0400 (Tue, 14 Oct 2025) EndedAt: 2025-10-14 03:37:14 -0400 (Tue, 14 Oct 2025) EllapsedTime: 12.5 seconds RetCode: 0 Status: OK PackageFile: mdqc_1.70.0.tar.gz PackageFileSize: 258.6 KiB