Package: mdqc Version: 1.70.0 Command: rm -rf mdqc.buildbin-libdir && mkdir mdqc.buildbin-libdir && /Users/biocbuild/BBS/utils/build-universal.sh mdqc_1.70.0.tar.gz /Library/Frameworks/R.framework/Resources/bin/R mdqc.buildbin-libdir StartedAt: 2025-10-15 19:10:42 -0400 (Wed, 15 Oct 2025) EndedAt: 2025-10-15 19:10:47 -0400 (Wed, 15 Oct 2025) EllapsedTime: 4.5 seconds RetCode: 0 Status: OK PackageFile: mdqc_1.70.0.tgz PackageFileSize: 297.3 KiB