Package: mbkmeans Version: 1.24.0 Command: /Library/Frameworks/R.framework/Resources/bin/R CMD INSTALL mbkmeans StartedAt: 2025-10-13 15:36:10 -0400 (Mon, 13 Oct 2025) EndedAt: 2025-10-13 15:37:46 -0400 (Mon, 13 Oct 2025) EllapsedTime: 95.6 seconds RetCode: 0 Status: OK