Package: matter Version: 2.10.0 Command: chmod a+r matter -R && E:\biocbuild\bbs-3.21-bioc\R\bin\R.exe CMD build --keep-empty-dirs --no-resave-data matter StartedAt: 2025-08-14 20:11:10 -0400 (Thu, 14 Aug 2025) EndedAt: 2025-08-14 20:14:05 -0400 (Thu, 14 Aug 2025) EllapsedTime: 175.3 seconds RetCode: 0 Status: OK PackageFile: matter_2.10.0.tar.gz PackageFileSize: 1.408 MiB