Package: matter Version: 2.10.0 Command: rm -rf matter.buildbin-libdir && mkdir matter.buildbin-libdir && E:\biocbuild\bbs-3.21-bioc\R\bin\R.exe CMD INSTALL --build --library=matter.buildbin-libdir matter_2.10.0.tar.gz StartedAt: 2025-08-15 09:38:23 -0400 (Fri, 15 Aug 2025) EndedAt: 2025-08-15 09:41:32 -0400 (Fri, 15 Aug 2025) EllapsedTime: 188.8 seconds RetCode: 0 Status: OK PackageFile: matter_2.10.0.zip PackageFileSize: 3.928 MiB