Package: matter Version: 2.10.0 Command: /Library/Frameworks/R.framework/Resources/bin/R CMD INSTALL matter StartedAt: 2025-10-13 15:20:55 -0400 (Mon, 13 Oct 2025) EndedAt: 2025-10-13 15:22:29 -0400 (Mon, 13 Oct 2025) EllapsedTime: 93.6 seconds RetCode: 0 Status: OK