Package: matter Version: 2.10.0 Command: /Library/Frameworks/R.framework/Resources/bin/R CMD check --install=check:matter.install-out.txt --library=/Library/Frameworks/R.framework/Resources/library --no-vignettes --timings matter_2.10.0.tar.gz StartedAt: 2025-10-14 06:02:14 -0400 (Tue, 14 Oct 2025) EndedAt: 2025-10-14 06:10:08 -0400 (Tue, 14 Oct 2025) EllapsedTime: 474.2 seconds RetCode: 0 Status: OK CheckDir: matter.Rcheck Warnings: 0