Package: matter Version: 2.10.0 Maintainer: Kylie A. Bemis MaintainerEmail: k.bemis at northeastern.edu git_url: https://git.bioconductor.org/packages/matter git_branch: RELEASE_3_21 git_last_commit: c93d25f git_last_commit_date: 2025-04-15 11:06:08 -0400 (Tue, 15 Apr 2025)