Package: matchBox Version: 1.50.0 Command: rm -rf matchBox.buildbin-libdir && mkdir matchBox.buildbin-libdir && E:\biocbuild\bbs-3.21-bioc\R\bin\R.exe CMD INSTALL --build --library=matchBox.buildbin-libdir matchBox_1.50.0.tar.gz StartedAt: 2025-08-15 09:38:16 -0400 (Fri, 15 Aug 2025) EndedAt: 2025-08-15 09:38:27 -0400 (Fri, 15 Aug 2025) EllapsedTime: 11.2 seconds RetCode: 0 Status: OK PackageFile: matchBox_1.50.0.zip PackageFileSize: 637 KiB