Package: matchBox Version: 1.50.0 Command: /home/biocbuild/bbs-3.21-bioc/R/bin/R CMD build --keep-empty-dirs --no-resave-data matchBox StartedAt: 2025-10-15 18:19:32 -0400 (Wed, 15 Oct 2025) EndedAt: 2025-10-15 18:19:39 -0400 (Wed, 15 Oct 2025) EllapsedTime: 7.0 seconds RetCode: 0 Status: OK PackageFile: matchBox_1.50.0.tar.gz PackageFileSize: 605.3 KiB