Package: matchBox Version: 1.50.0 Command: /Library/Frameworks/R.framework/Resources/bin/R CMD INSTALL matchBox StartedAt: 2025-10-13 15:05:49 -0400 (Mon, 13 Oct 2025) EndedAt: 2025-10-13 15:06:08 -0400 (Mon, 13 Oct 2025) EllapsedTime: 19.4 seconds RetCode: 0 Status: OK