Package: matchBox Version: 1.50.0 Command: rm -rf matchBox.buildbin-libdir && mkdir matchBox.buildbin-libdir && /Users/biocbuild/BBS/utils/build-universal.sh matchBox_1.50.0.tar.gz /Library/Frameworks/R.framework/Resources/bin/R matchBox.buildbin-libdir StartedAt: 2025-04-21 22:40:50 -0400 (Mon, 21 Apr 2025) EndedAt: 2025-04-21 22:40:52 -0400 (Mon, 21 Apr 2025) EllapsedTime: 2.1 seconds RetCode: 0 Status: OK PackageFile: matchBox_1.50.0.tgz PackageFileSize: 634 KiB