Package: matchBox Version: 1.50.0 Command: /Library/Frameworks/R.framework/Resources/bin/R CMD check --install=check:matchBox.install-out.txt --library=/Library/Frameworks/R.framework/Resources/library --no-vignettes --timings matchBox_1.50.0.tar.gz StartedAt: 2025-10-15 02:27:32 -0400 (Wed, 15 Oct 2025) EndedAt: 2025-10-15 02:27:59 -0400 (Wed, 15 Oct 2025) EllapsedTime: 27.1 seconds RetCode: 0 Status: OK CheckDir: matchBox.Rcheck Warnings: 0