Package: mastR Version: 1.8.0 Command: /Library/Frameworks/R.framework/Resources/bin/R CMD build --keep-empty-dirs --no-resave-data mastR StartedAt: 2025-04-21 17:21:11 -0400 (Mon, 21 Apr 2025) EndedAt: 2025-04-21 17:23:46 -0400 (Mon, 21 Apr 2025) EllapsedTime: 155.5 seconds RetCode: 0 Status: OK PackageFile: mastR_1.8.0.tar.gz PackageFileSize: 3.108 MiB