Package: mastR Version: 1.8.0 Command: /home/biocbuild/R/R/bin/R CMD build --keep-empty-dirs --no-resave-data mastR StartedAt: 2025-10-14 02:08:34 -0000 (Tue, 14 Oct 2025) EndedAt: 2025-10-14 02:12:19 -0000 (Tue, 14 Oct 2025) EllapsedTime: 225.1 seconds RetCode: 0 Status: OK PackageFile: mastR_1.8.0.tar.gz PackageFileSize: 2.936 MiB